BEGIN:VCALENDAR
VERSION:2.0
PRODID:http://www.engagement-global.de/ Calendar
CALSCALE:GREGORIAN
BEGIN:VTIMEZONE
TZID:Europe/Berlin
BEGIN:DAYLIGHT
TZOFFSETFROM:+0100
RRULE:FREQ=YEARLY;BYMONTH=3;BYDAY=-1SU
DTSTART:19810329T020000
TZNAME:MESZ
TZOFFSETTO:+0200
END:DAYLIGHT
BEGIN:STANDARD
TZOFFSETFROM:+0200
RRULE:FREQ=YEARLY;BYMONTH=10;BYDAY=-1SU
DTSTART:19961027T030000
TZNAME:MEZ
TZOFFSETTO:+0100
END:STANDARD
END:VTIMEZONE
BEGIN:VEVENT
CREATED:20220427T020226Z
UID:0829424ffa0d3a2547b6c9622c77de03@engagement-global.de
DTSTAMP:20220427T020226Z
DTSTART;VALUE=DATE:20190404
DTEND;VALUE=DATE:20190406
SUMMARY:Vierter Runder Tisch Kommunale Partnerschaften mit China
LOCATION:Rathausstraße 15, 10178 Berlin, Berlin
END:VEVENT
END:VCALENDAR