BEGIN:VCALENDAR
VERSION:2.0
PRODID:http://www.engagement-global.de/ Calendar
CALSCALE:GREGORIAN
BEGIN:VTIMEZONE
TZID:Europe/Berlin
BEGIN:DAYLIGHT
TZOFFSETFROM:+0100
RRULE:FREQ=YEARLY;BYMONTH=3;BYDAY=-1SU
DTSTART:19810329T020000
TZNAME:MESZ
TZOFFSETTO:+0200
END:DAYLIGHT
BEGIN:STANDARD
TZOFFSETFROM:+0200
RRULE:FREQ=YEARLY;BYMONTH=10;BYDAY=-1SU
DTSTART:19961027T030000
TZNAME:MEZ
TZOFFSETTO:+0100
END:STANDARD
END:VTIMEZONE
BEGIN:VEVENT
CREATED:20220427T013603Z
UID:5e1b18c4c6a6d31695acbae3fd70ecc6@engagement-global.de
DTSTAMP:20220427T013603Z
DTSTART;VALUE=DATE:20190130
DTEND;VALUE=DATE:20190203
SUMMARY:"Kommunale Klimapartnerschaften" Vorbereitungstreffen der siebten Phase in Hannover
LOCATION:Lathusenstr. 35, 30625 Hannover, Niedersachsen, Hannover
END:VEVENT
END:VCALENDAR