BEGIN:VCALENDAR
VERSION:2.0
PRODID:http://www.engagement-global.de/ Calendar
CALSCALE:GREGORIAN
BEGIN:VTIMEZONE
TZID:Europe/Berlin
BEGIN:DAYLIGHT
TZOFFSETFROM:+0100
RRULE:FREQ=YEARLY;BYMONTH=3;BYDAY=-1SU
DTSTART:19810329T020000
TZNAME:MESZ
TZOFFSETTO:+0200
END:DAYLIGHT
BEGIN:STANDARD
TZOFFSETFROM:+0200
RRULE:FREQ=YEARLY;BYMONTH=10;BYDAY=-1SU
DTSTART:19961027T030000
TZNAME:MEZ
TZOFFSETTO:+0100
END:STANDARD
END:VTIMEZONE
BEGIN:VEVENT
CREATED:20220427T014102Z
UID:fb508ef074ee78a0e58c68be06d8a2eb@engagement-global.de
DTSTAMP:20220427T014102Z
DTSTART;VALUE=DATE:20190122
DTEND;VALUE=DATE:20190124
SUMMARY:Seminar zur Antragstellung bei Nakopa
LOCATION:Schillerplatz 3 – 5, 55116 Mainz
END:VEVENT
END:VCALENDAR