BEGIN:VCALENDAR
VERSION:2.0
PRODID:http://www.engagement-global.de/ Calendar
CALSCALE:GREGORIAN
BEGIN:VTIMEZONE
TZID:Europe/Berlin
BEGIN:DAYLIGHT
TZOFFSETFROM:+0100
RRULE:FREQ=YEARLY;BYMONTH=3;BYDAY=-1SU
DTSTART:19810329T020000
TZNAME:MESZ
TZOFFSETTO:+0200
END:DAYLIGHT
BEGIN:STANDARD
TZOFFSETFROM:+0200
RRULE:FREQ=YEARLY;BYMONTH=10;BYDAY=-1SU
DTSTART:19961027T030000
TZNAME:MEZ
TZOFFSETTO:+0100
END:STANDARD
END:VTIMEZONE
BEGIN:VEVENT
CREATED:20220427T020302Z
UID:6a5889bb0190d0211a991f47bb19a777@engagement-global.de
DTSTAMP:20220427T020302Z
DTSTART;VALUE=DATE:20190513
DTEND;VALUE=DATE:20190515
SUMMARY:Seminar zur landeskundlichen und interkulturellen Qualifizierung für die deutsch-palästinensische kommunale Partnerschaftsarbeit
LOCATION:53113 Bonn, Nordrhein-Westfalen, Bonn
END:VEVENT
END:VCALENDAR