BEGIN:VCALENDAR
VERSION:2.0
PRODID:http://www.engagement-global.de/ Calendar
CALSCALE:GREGORIAN
BEGIN:VTIMEZONE
TZID:Europe/Berlin
BEGIN:DAYLIGHT
TZOFFSETFROM:+0100
RRULE:FREQ=YEARLY;BYMONTH=3;BYDAY=-1SU
DTSTART:19810329T020000
TZNAME:MESZ
TZOFFSETTO:+0200
END:DAYLIGHT
BEGIN:STANDARD
TZOFFSETFROM:+0200
RRULE:FREQ=YEARLY;BYMONTH=10;BYDAY=-1SU
DTSTART:19961027T030000
TZNAME:MEZ
TZOFFSETTO:+0100
END:STANDARD
END:VTIMEZONE
BEGIN:VEVENT
CREATED:20220427T013559Z
UID:0e3a37aa85a14e359df74fa77eded3f6@engagement-global.de
DTSTAMP:20220427T013559Z
DTSTART;TZID=Europe/Berlin:20190131T160000
DTEND;TZID=Europe/Berlin:20190131T200000
SUMMARY:Vernetzungsworkshop mit migrantischen und Eine-Welt-Akteuren
LOCATION:Historisches Rathaus, Prinzipalmarkt 10, 48143 Münster, Münster
END:VEVENT
END:VCALENDAR