BEGIN:VCALENDAR
VERSION:2.0
PRODID:http://www.engagement-global.de/ Calendar
CALSCALE:GREGORIAN
BEGIN:VTIMEZONE
TZID:Europe/Berlin
BEGIN:DAYLIGHT
TZOFFSETFROM:+0100
RRULE:FREQ=YEARLY;BYMONTH=3;BYDAY=-1SU
DTSTART:19810329T020000
TZNAME:MESZ
TZOFFSETTO:+0200
END:DAYLIGHT
BEGIN:STANDARD
TZOFFSETFROM:+0200
RRULE:FREQ=YEARLY;BYMONTH=10;BYDAY=-1SU
DTSTART:19961027T030000
TZNAME:MEZ
TZOFFSETTO:+0100
END:STANDARD
END:VTIMEZONE
BEGIN:VEVENT
CREATED:20220427T012205Z
UID:e56b06c51e1049195d7b26d043c478a0@engagement-global.de
DTSTAMP:20220427T012205Z
DTSTART;VALUE=DATE:20190219
SUMMARY:Infoveranstaltung: Global Nachhaltige Kommune Schleswig-Holstein
LOCATION:Rendsburg, 24768, Schleswig-Holstein
END:VEVENT
END:VCALENDAR