BEGIN:VCALENDAR
VERSION:2.0
PRODID:http://www.engagement-global.de/ Calendar
CALSCALE:GREGORIAN
BEGIN:VTIMEZONE
TZID:Europe/Berlin
BEGIN:DAYLIGHT
TZOFFSETFROM:+0100
RRULE:FREQ=YEARLY;BYMONTH=3;BYDAY=-1SU
DTSTART:19810329T020000
TZNAME:MESZ
TZOFFSETTO:+0200
END:DAYLIGHT
BEGIN:STANDARD
TZOFFSETFROM:+0200
RRULE:FREQ=YEARLY;BYMONTH=10;BYDAY=-1SU
DTSTART:19961027T030000
TZNAME:MEZ
TZOFFSETTO:+0100
END:STANDARD
END:VTIMEZONE
BEGIN:VEVENT
CREATED:20220427T015039Z
UID:30c8e1ca872524fbf7ea5c519ca397ee@engagement-global.de
DTSTAMP:20220427T015039Z
DTSTART;TZID=Europe/Berlin:20190219T090000
DTEND;TZID=Europe/Berlin:20190219T163000
SUMMARY:Seminare zur Durchführung kommunaler Partnerschaftsprojekte für Nakopa und FKKP
LOCATION:Langer Grabenweg 68, 53175 Bonn, 53175 Bonn
END:VEVENT
END:VCALENDAR