BEGIN:VCALENDAR
VERSION:2.0
PRODID:http://www.engagement-global.de/ Calendar
CALSCALE:GREGORIAN
BEGIN:VTIMEZONE
TZID:Europe/Berlin
BEGIN:DAYLIGHT
TZOFFSETFROM:+0100
RRULE:FREQ=YEARLY;BYMONTH=3;BYDAY=-1SU
DTSTART:19810329T020000
TZNAME:MESZ
TZOFFSETTO:+0200
END:DAYLIGHT
BEGIN:STANDARD
TZOFFSETFROM:+0200
RRULE:FREQ=YEARLY;BYMONTH=10;BYDAY=-1SU
DTSTART:19961027T030000
TZNAME:MEZ
TZOFFSETTO:+0100
END:STANDARD
END:VTIMEZONE
BEGIN:VEVENT
CREATED:20220427T015821Z
UID:90db9da4fc5414ab55a9fe495d555c06@engagement-global.de
DTSTAMP:20220427T015821Z
DTSTART;VALUE=DATE:20190222
DTEND;VALUE=DATE:20190225
SUMMARY:Bildung für nachhaltige Entwicklung: Fortbildung Klimaflucht und Gesellschaft gestalten
LOCATION:Kletterstraße 10, 59457 Werl, Werl
END:VEVENT
END:VCALENDAR