BEGIN:VCALENDAR
VERSION:2.0
PRODID:http://www.engagement-global.de/ Calendar
CALSCALE:GREGORIAN
BEGIN:VTIMEZONE
TZID:Europe/Berlin
BEGIN:DAYLIGHT
TZOFFSETFROM:+0100
RRULE:FREQ=YEARLY;BYMONTH=3;BYDAY=-1SU
DTSTART:19810329T020000
TZNAME:MESZ
TZOFFSETTO:+0200
END:DAYLIGHT
BEGIN:STANDARD
TZOFFSETFROM:+0200
RRULE:FREQ=YEARLY;BYMONTH=10;BYDAY=-1SU
DTSTART:19961027T030000
TZNAME:MEZ
TZOFFSETTO:+0100
END:STANDARD
END:VTIMEZONE
BEGIN:VEVENT
CREATED:20220427T015930Z
UID:0ed9422357395a0d4879191c66f4faa2@engagement-global.de
DTSTAMP:20220427T015930Z
DTSTART;VALUE=DATE:20190219
SUMMARY:So wird ein Schuh draus – Faire Schuhe für Kommunen
LOCATION:Sandstraße 4/5, 28195 Bremen, Bremen
END:VEVENT
END:VCALENDAR