BEGIN:VCALENDAR
VERSION:2.0
PRODID:http://www.engagement-global.de/ Calendar
CALSCALE:GREGORIAN
BEGIN:VTIMEZONE
TZID:Europe/Berlin
BEGIN:DAYLIGHT
TZOFFSETFROM:+0100
RRULE:FREQ=YEARLY;BYMONTH=3;BYDAY=-1SU
DTSTART:19810329T020000
TZNAME:MESZ
TZOFFSETTO:+0200
END:DAYLIGHT
BEGIN:STANDARD
TZOFFSETFROM:+0200
RRULE:FREQ=YEARLY;BYMONTH=10;BYDAY=-1SU
DTSTART:19961027T030000
TZNAME:MEZ
TZOFFSETTO:+0100
END:STANDARD
END:VTIMEZONE
BEGIN:VEVENT
CREATED:20220427T013802Z
UID:8fb21ee7a2207526da55a679f0332de2@engagement-global.de
DTSTAMP:20220427T013802Z
DTSTART;VALUE=DATE:20190407
DTEND;VALUE=DATE:20190414
SUMMARY:Fachlich begleitete Informationsreise in die Palästinensischen Gebiete
LOCATION:Palästinensische Gebiete
END:VEVENT
END:VCALENDAR