BEGIN:VCALENDAR
VERSION:2.0
PRODID:http://www.engagement-global.de/ Calendar
CALSCALE:GREGORIAN
BEGIN:VTIMEZONE
TZID:Europe/Berlin
BEGIN:DAYLIGHT
TZOFFSETFROM:+0100
RRULE:FREQ=YEARLY;BYMONTH=3;BYDAY=-1SU
DTSTART:19810329T020000
TZNAME:MESZ
TZOFFSETTO:+0200
END:DAYLIGHT
BEGIN:STANDARD
TZOFFSETFROM:+0200
RRULE:FREQ=YEARLY;BYMONTH=10;BYDAY=-1SU
DTSTART:19961027T030000
TZNAME:MEZ
TZOFFSETTO:+0100
END:STANDARD
END:VTIMEZONE
BEGIN:VEVENT
CREATED:20220427T014631Z
UID:80a8155eb153025ea1d513d0b2c4b675@engagement-global.de
DTSTAMP:20220427T014631Z
DTSTART;VALUE=DATE:20190212
SUMMARY:Die Umsetzung der 17 Ziele im Entwicklungsland Hessen
LOCATION:Theodor-W.-Adorno-Platz 6, 60323 Frankfurt am Main, Frankfurt am Main
END:VEVENT
END:VCALENDAR