BEGIN:VCALENDAR
VERSION:2.0
PRODID:http://www.engagement-global.de/ Calendar
CALSCALE:GREGORIAN
BEGIN:VTIMEZONE
TZID:Europe/Berlin
BEGIN:DAYLIGHT
TZOFFSETFROM:+0100
RRULE:FREQ=YEARLY;BYMONTH=3;BYDAY=-1SU
DTSTART:19810329T020000
TZNAME:MESZ
TZOFFSETTO:+0200
END:DAYLIGHT
BEGIN:STANDARD
TZOFFSETFROM:+0200
RRULE:FREQ=YEARLY;BYMONTH=10;BYDAY=-1SU
DTSTART:19961027T030000
TZNAME:MEZ
TZOFFSETTO:+0100
END:STANDARD
END:VTIMEZONE
BEGIN:VEVENT
CREATED:20220427T013110Z
UID:226d1f15ecd35f784d2a20c3ecf56d7f@engagement-global.de
DTSTAMP:20220427T013110Z
DTSTART;VALUE=DATE:20190406
DTEND;VALUE=DATE:20190409
SUMMARY:„Faire Welten“ - die Messe für fairen Handel und nachhaltigen Konsum
LOCATION:Ludwig-Erhard-Straße, 55129 Mainz, Mainz
END:VEVENT
END:VCALENDAR