BEGIN:VCALENDAR
VERSION:2.0
PRODID:http://www.engagement-global.de/ Calendar
CALSCALE:GREGORIAN
BEGIN:VTIMEZONE
TZID:Europe/Berlin
BEGIN:DAYLIGHT
TZOFFSETFROM:+0100
RRULE:FREQ=YEARLY;BYMONTH=3;BYDAY=-1SU
DTSTART:19810329T020000
TZNAME:MESZ
TZOFFSETTO:+0200
END:DAYLIGHT
BEGIN:STANDARD
TZOFFSETFROM:+0200
RRULE:FREQ=YEARLY;BYMONTH=10;BYDAY=-1SU
DTSTART:19961027T030000
TZNAME:MEZ
TZOFFSETTO:+0100
END:STANDARD
END:VTIMEZONE
BEGIN:VEVENT
CREATED:20220427T015757Z
UID:e655c7716a4b3ea67f48c6322fc42ed6@engagement-global.de
DTSTAMP:20220427T015757Z
DTSTART;VALUE=DATE:20190425
DTEND;VALUE=DATE:20190429
SUMMARY:„Fair Handeln“ - Internationale Messe für Fair Trade und global verantwortungsvolles Handeln
LOCATION:Messepiazza 1, 70629 Stuttgart, Stuttgart
END:VEVENT
END:VCALENDAR