BEGIN:VCALENDAR
VERSION:2.0
PRODID:http://www.engagement-global.de/ Calendar
CALSCALE:GREGORIAN
BEGIN:VTIMEZONE
TZID:Europe/Berlin
BEGIN:DAYLIGHT
TZOFFSETFROM:+0100
RRULE:FREQ=YEARLY;BYMONTH=3;BYDAY=-1SU
DTSTART:19810329T020000
TZNAME:MESZ
TZOFFSETTO:+0200
END:DAYLIGHT
BEGIN:STANDARD
TZOFFSETFROM:+0200
RRULE:FREQ=YEARLY;BYMONTH=10;BYDAY=-1SU
DTSTART:19961027T030000
TZNAME:MEZ
TZOFFSETTO:+0100
END:STANDARD
END:VTIMEZONE
BEGIN:VEVENT
CREATED:20220427T012316Z
UID:1415db70fe9ddb119e23e9b2808cde38@engagement-global.de
DTSTAMP:20220427T012316Z
DTSTART;VALUE=DATE:20190905
DTEND;VALUE=DATE:20190909
SUMMARY:Fair Friends 2019
LOCATION:Strobelallee 45, 44139 Dortmund, Dortmund
END:VEVENT
END:VCALENDAR