BEGIN:VCALENDAR
VERSION:2.0
PRODID:http://www.engagement-global.de/ Calendar
CALSCALE:GREGORIAN
BEGIN:VTIMEZONE
TZID:Europe/Berlin
BEGIN:DAYLIGHT
TZOFFSETFROM:+0100
RRULE:FREQ=YEARLY;BYMONTH=3;BYDAY=-1SU
DTSTART:19810329T020000
TZNAME:MESZ
TZOFFSETTO:+0200
END:DAYLIGHT
BEGIN:STANDARD
TZOFFSETFROM:+0200
RRULE:FREQ=YEARLY;BYMONTH=10;BYDAY=-1SU
DTSTART:19961027T030000
TZNAME:MEZ
TZOFFSETTO:+0100
END:STANDARD
END:VTIMEZONE
BEGIN:VEVENT
CREATED:20220427T010616Z
UID:0c8ce55163055c4da50a81e0a273468c@engagement-global.de
DTSTAMP:20220427T010616Z
DTSTART;VALUE=DATE:20190514
DTEND;VALUE=DATE:20190517
SUMMARY:Internationaler Auftaktworkshop der 7. Phase des Projektes „Kommunale Klimapartnerschaften“
LOCATION:Albersloher Weg 32, 48155 Münster, Münster
END:VEVENT
END:VCALENDAR