BEGIN:VCALENDAR
VERSION:2.0
PRODID:http://www.engagement-global.de/ Calendar
CALSCALE:GREGORIAN
BEGIN:VTIMEZONE
TZID:Europe/Berlin
BEGIN:DAYLIGHT
TZOFFSETFROM:+0100
RRULE:FREQ=YEARLY;BYMONTH=3;BYDAY=-1SU
DTSTART:19810329T020000
TZNAME:MESZ
TZOFFSETTO:+0200
END:DAYLIGHT
BEGIN:STANDARD
TZOFFSETFROM:+0200
RRULE:FREQ=YEARLY;BYMONTH=10;BYDAY=-1SU
DTSTART:19961027T030000
TZNAME:MEZ
TZOFFSETTO:+0100
END:STANDARD
END:VTIMEZONE
BEGIN:VEVENT
CREATED:20220427T020005Z
UID:1cd3882394520876dc88d1472aa2a93f@engagement-global.de
DTSTAMP:20220427T020005Z
DTSTART;TZID=Europe/Berlin:20190403T100000
DTEND;TZID=Europe/Berlin:20190403T170000
SUMMARY:Drittes regionales Netzwerktreffen „Migration und Entwicklung auf kommunaler Ebene“  in Baden-Württemberg
LOCATION:Schwabenlandhalle Fellbach, Guntram-Palm-Platz 1, 70734 Fellbach, Fellbach
END:VEVENT
END:VCALENDAR