BEGIN:VCALENDAR
VERSION:2.0
PRODID:http://www.engagement-global.de/ Calendar
CALSCALE:GREGORIAN
BEGIN:VTIMEZONE
TZID:Europe/Berlin
BEGIN:DAYLIGHT
TZOFFSETFROM:+0100
RRULE:FREQ=YEARLY;BYMONTH=3;BYDAY=-1SU
DTSTART:19810329T020000
TZNAME:MESZ
TZOFFSETTO:+0200
END:DAYLIGHT
BEGIN:STANDARD
TZOFFSETFROM:+0200
RRULE:FREQ=YEARLY;BYMONTH=10;BYDAY=-1SU
DTSTART:19961027T030000
TZNAME:MEZ
TZOFFSETTO:+0100
END:STANDARD
END:VTIMEZONE
BEGIN:VEVENT
CREATED:20220427T014348Z
UID:253f7b5d921338af34da817c00f42753@engagement-global.de
DTSTAMP:20220427T014348Z
DTSTART;VALUE=DATE:20190303
DTEND;VALUE=DATE:20190306
SUMMARY:17 Ziele für eine bessere Welt - 2. Städtepartnerkonferenz zu Nachhaltigkeit
LOCATION:Bremen und Bremerhaven
END:VEVENT
END:VCALENDAR