BEGIN:VCALENDAR
VERSION:2.0
PRODID:http://www.engagement-global.de/ Calendar
CALSCALE:GREGORIAN
BEGIN:VTIMEZONE
TZID:Europe/Berlin
BEGIN:DAYLIGHT
TZOFFSETFROM:+0100
RRULE:FREQ=YEARLY;BYMONTH=3;BYDAY=-1SU
DTSTART:19810329T020000
TZNAME:MESZ
TZOFFSETTO:+0200
END:DAYLIGHT
BEGIN:STANDARD
TZOFFSETFROM:+0200
RRULE:FREQ=YEARLY;BYMONTH=10;BYDAY=-1SU
DTSTART:19961027T030000
TZNAME:MEZ
TZOFFSETTO:+0100
END:STANDARD
END:VTIMEZONE
BEGIN:VEVENT
CREATED:20220427T020142Z
UID:3fb451ca2e89b3a13095b059d8705b15@engagement-global.de
DTSTAMP:20220427T020142Z
DTSTART;TZID=Europe/Berlin:20190409T120000
DTEND;TZID=Europe/Berlin:20190410T140000
SUMMARY:Vierter Runder Tisch kommunaler Partnerschaften mit der Ukraine
LOCATION:Zentrum Altenberg, Hansastraße 20, 46049 Oberhausen, Oberhausen
END:VEVENT
END:VCALENDAR