BEGIN:VCALENDAR
VERSION:2.0
PRODID:http://www.engagement-global.de/ Calendar
CALSCALE:GREGORIAN
BEGIN:VTIMEZONE
TZID:Europe/Berlin
BEGIN:DAYLIGHT
TZOFFSETFROM:+0100
RRULE:FREQ=YEARLY;BYMONTH=3;BYDAY=-1SU
DTSTART:19810329T020000
TZNAME:MESZ
TZOFFSETTO:+0200
END:DAYLIGHT
BEGIN:STANDARD
TZOFFSETFROM:+0200
RRULE:FREQ=YEARLY;BYMONTH=10;BYDAY=-1SU
DTSTART:19961027T030000
TZNAME:MEZ
TZOFFSETTO:+0100
END:STANDARD
END:VTIMEZONE
BEGIN:VEVENT
CREATED:20220427T014728Z
UID:5cce8dede893813f879b873962fb669f@engagement-global.de
DTSTAMP:20220427T014728Z
DTSTART;TZID=Europe/Berlin:20190326T093000
DTEND;TZID=Europe/Berlin:20190327T133000
SUMMARY:Erster Workshop: Global Nachhaltige Kommune Schleswig-Holstein
LOCATION:Atelierhaus im Anscharpark, Heiligendammer Straße 15, 24106 Kiel, Kiel
END:VEVENT
END:VCALENDAR