BEGIN:VCALENDAR
VERSION:2.0
PRODID:http://www.engagement-global.de/ Calendar
CALSCALE:GREGORIAN
BEGIN:VTIMEZONE
TZID:Europe/Berlin
BEGIN:DAYLIGHT
TZOFFSETFROM:+0100
RRULE:FREQ=YEARLY;BYMONTH=3;BYDAY=-1SU
DTSTART:19810329T020000
TZNAME:MESZ
TZOFFSETTO:+0200
END:DAYLIGHT
BEGIN:STANDARD
TZOFFSETFROM:+0200
RRULE:FREQ=YEARLY;BYMONTH=10;BYDAY=-1SU
DTSTART:19961027T030000
TZNAME:MEZ
TZOFFSETTO:+0100
END:STANDARD
END:VTIMEZONE
BEGIN:VEVENT
CREATED:20220427T015005Z
UID:b2dd140336c9df867c087a29b2e66034@engagement-global.de
DTSTAMP:20220427T015005Z
DTSTART;TZID=Europe/Berlin:20190502T100000
DTEND;TZID=Europe/Berlin:20190503T120000
SUMMARY:Viertes Vernetzungstreffen des Clubs der Agenda 2030 Kommunen
LOCATION:Universitätsclub Bonn und Rathaus der Stadt Bonn, Nordrhein-Westfalen, Bonn
END:VEVENT
END:VCALENDAR