BEGIN:VCALENDAR
VERSION:2.0
PRODID:http://www.engagement-global.de/ Calendar
CALSCALE:GREGORIAN
BEGIN:VTIMEZONE
TZID:Europe/Berlin
BEGIN:DAYLIGHT
TZOFFSETFROM:+0100
RRULE:FREQ=YEARLY;BYMONTH=3;BYDAY=-1SU
DTSTART:19810329T020000
TZNAME:MESZ
TZOFFSETTO:+0200
END:DAYLIGHT
BEGIN:STANDARD
TZOFFSETFROM:+0200
RRULE:FREQ=YEARLY;BYMONTH=10;BYDAY=-1SU
DTSTART:19961027T030000
TZNAME:MEZ
TZOFFSETTO:+0100
END:STANDARD
END:VTIMEZONE
BEGIN:VEVENT
CREATED:20220427T013125Z
UID:d961e9f236177d65d21100592edb0769@engagement-global.de
DTSTAMP:20220427T013125Z
DTSTART;TZID=Europe/Berlin:20190528T101500
DTEND;TZID=Europe/Berlin:20190529T140000
SUMMARY:Netzwerktreffen Faire Beschaffung 2019
LOCATION:Würzburg, Am Bruderhof 1, 97070 Würzburg
END:VEVENT
END:VCALENDAR