BEGIN:VCALENDAR
VERSION:2.0
PRODID:http://www.engagement-global.de/ Calendar
CALSCALE:GREGORIAN
BEGIN:VTIMEZONE
TZID:Europe/Berlin
BEGIN:DAYLIGHT
TZOFFSETFROM:+0100
RRULE:FREQ=YEARLY;BYMONTH=3;BYDAY=-1SU
DTSTART:19810329T020000
TZNAME:MESZ
TZOFFSETTO:+0200
END:DAYLIGHT
BEGIN:STANDARD
TZOFFSETFROM:+0200
RRULE:FREQ=YEARLY;BYMONTH=10;BYDAY=-1SU
DTSTART:19961027T030000
TZNAME:MEZ
TZOFFSETTO:+0100
END:STANDARD
END:VTIMEZONE
BEGIN:VEVENT
CREATED:20220427T014623Z
UID:18d10dc6e666eab6de9215ae5b3d54df@engagement-global.de
DTSTAMP:20220427T014623Z
DTSTART;TZID=Europe/Berlin:20190524T170000
DTEND;TZID=Europe/Berlin:20190525T170000
SUMMARY:„Remstal Global – Afrika im Blick“
LOCATION:Congress-Centrum Stadtgarten, Rektor-Klaus-Straße 9, 73525 Schwäbisch Gmünd, 73525 Schwäbisch Gmünd
END:VEVENT
END:VCALENDAR