BEGIN:VCALENDAR
VERSION:2.0
PRODID:http://www.engagement-global.de/ Calendar
CALSCALE:GREGORIAN
BEGIN:VTIMEZONE
TZID:Europe/Berlin
BEGIN:DAYLIGHT
TZOFFSETFROM:+0100
RRULE:FREQ=YEARLY;BYMONTH=3;BYDAY=-1SU
DTSTART:19810329T020000
TZNAME:MESZ
TZOFFSETTO:+0200
END:DAYLIGHT
BEGIN:STANDARD
TZOFFSETFROM:+0200
RRULE:FREQ=YEARLY;BYMONTH=10;BYDAY=-1SU
DTSTART:19961027T030000
TZNAME:MEZ
TZOFFSETTO:+0100
END:STANDARD
END:VTIMEZONE
BEGIN:VEVENT
CREATED:20220427T020116Z
UID:ed4227734ed75d343320b6a5fd16ce57@engagement-global.de
DTSTAMP:20220427T020116Z
DTSTART;VALUE=DATE:20190918
DTEND;VALUE=DATE:20190921
SUMMARY:Fair begegnen – Fair gestalten. Kongress der Ideen und Taten
LOCATION:Schanzenstr. 37 und 40, 51063 Köln, Köln
END:VEVENT
END:VCALENDAR