BEGIN:VCALENDAR
VERSION:2.0
PRODID:http://www.engagement-global.de/ Calendar
CALSCALE:GREGORIAN
BEGIN:VTIMEZONE
TZID:Europe/Berlin
BEGIN:DAYLIGHT
TZOFFSETFROM:+0100
RRULE:FREQ=YEARLY;BYMONTH=3;BYDAY=-1SU
DTSTART:19810329T020000
TZNAME:MESZ
TZOFFSETTO:+0200
END:DAYLIGHT
BEGIN:STANDARD
TZOFFSETFROM:+0200
RRULE:FREQ=YEARLY;BYMONTH=10;BYDAY=-1SU
DTSTART:19961027T030000
TZNAME:MEZ
TZOFFSETTO:+0100
END:STANDARD
END:VTIMEZONE
BEGIN:VEVENT
CREATED:20220427T020107Z
UID:bcb41ccdc4363c6848a1d760f26c28a0@engagement-global.de
DTSTAMP:20220427T020107Z
DTSTART;VALUE=DATE:20190516
DTEND;VALUE=DATE:20190518
SUMMARY:Kommunalen Fachveranstaltung  „Zusammenarbeit mit afrikanischen Partnern im Kontext von SDG 10 & 17“
LOCATION:Parkhotel Berghölzchen, Am Berghölzchen 1, 31139 Hildesheim, Hildesheim
END:VEVENT
END:VCALENDAR