BEGIN:VCALENDAR
VERSION:2.0
PRODID:http://www.engagement-global.de/ Calendar
CALSCALE:GREGORIAN
BEGIN:VTIMEZONE
TZID:Europe/Berlin
BEGIN:DAYLIGHT
TZOFFSETFROM:+0100
RRULE:FREQ=YEARLY;BYMONTH=3;BYDAY=-1SU
DTSTART:19810329T020000
TZNAME:MESZ
TZOFFSETTO:+0200
END:DAYLIGHT
BEGIN:STANDARD
TZOFFSETFROM:+0200
RRULE:FREQ=YEARLY;BYMONTH=10;BYDAY=-1SU
DTSTART:19961027T030000
TZNAME:MEZ
TZOFFSETTO:+0100
END:STANDARD
END:VTIMEZONE
BEGIN:VEVENT
CREATED:20220427T012637Z
UID:a2cc63e065705fe938a4dda49092966f@engagement-global.de
DTSTAMP:20220427T012637Z
DTSTART;TZID=Europe/Berlin:20190624T120000
DTEND;TZID=Europe/Berlin:20190624T160000
SUMMARY:Workshop Kommunale Entwicklungspolitik für Landkreise &#40;Hessen, Rheinland-Pfalz, Nordrhein-Westfalen&#41;
LOCATION:Hessischer Landkreistag, Frankfurter Straße 2, 65189 Wiesbaden, Wiesbaden
END:VEVENT
END:VCALENDAR