BEGIN:VCALENDAR
VERSION:2.0
PRODID:http://www.engagement-global.de/ Calendar
CALSCALE:GREGORIAN
BEGIN:VTIMEZONE
TZID:Europe/Berlin
BEGIN:DAYLIGHT
TZOFFSETFROM:+0100
RRULE:FREQ=YEARLY;BYMONTH=3;BYDAY=-1SU
DTSTART:19810329T020000
TZNAME:MESZ
TZOFFSETTO:+0200
END:DAYLIGHT
BEGIN:STANDARD
TZOFFSETFROM:+0200
RRULE:FREQ=YEARLY;BYMONTH=10;BYDAY=-1SU
DTSTART:19961027T030000
TZNAME:MEZ
TZOFFSETTO:+0100
END:STANDARD
END:VTIMEZONE
BEGIN:VEVENT
CREATED:20220427T020059Z
UID:6f2688a5fce7d48c8d19762b88c32c3b@engagement-global.de
DTSTAMP:20220427T020059Z
DTSTART;VALUE=DATE:20190628
SUMMARY:Informationsworkshop für bayerische Kommunen zur kommunalen Entwicklungszusammenarbeit mit Tunesien
LOCATION:Der Veranstaltungsort in München wird zu einem späteren Zeitpunkt bekannt gegeben, München
END:VEVENT
END:VCALENDAR