BEGIN:VCALENDAR
VERSION:2.0
PRODID:http://www.engagement-global.de/ Calendar
CALSCALE:GREGORIAN
BEGIN:VTIMEZONE
TZID:Europe/Berlin
BEGIN:DAYLIGHT
TZOFFSETFROM:+0100
RRULE:FREQ=YEARLY;BYMONTH=3;BYDAY=-1SU
DTSTART:19810329T020000
TZNAME:MESZ
TZOFFSETTO:+0200
END:DAYLIGHT
BEGIN:STANDARD
TZOFFSETFROM:+0200
RRULE:FREQ=YEARLY;BYMONTH=10;BYDAY=-1SU
DTSTART:19961027T030000
TZNAME:MEZ
TZOFFSETTO:+0100
END:STANDARD
END:VTIMEZONE
BEGIN:VEVENT
CREATED:20220427T012801Z
UID:36ac8e558ac7690b6f44e2cb5ef93322@engagement-global.de
DTSTAMP:20220427T012801Z
DTSTART;VALUE=DATE:20190627
SUMMARY:Auftaktveranstaltung Global Nachhaltige Kommune in Nordrhein-Westfalen
LOCATION:Jacobistraße 6a, 40211 Düsseldorf, Düsseldorf
END:VEVENT
END:VCALENDAR