BEGIN:VCALENDAR
VERSION:2.0
PRODID:http://www.engagement-global.de/ Calendar
CALSCALE:GREGORIAN
BEGIN:VTIMEZONE
TZID:Europe/Berlin
BEGIN:DAYLIGHT
TZOFFSETFROM:+0100
RRULE:FREQ=YEARLY;BYMONTH=3;BYDAY=-1SU
DTSTART:19810329T020000
TZNAME:MESZ
TZOFFSETTO:+0200
END:DAYLIGHT
BEGIN:STANDARD
TZOFFSETFROM:+0200
RRULE:FREQ=YEARLY;BYMONTH=10;BYDAY=-1SU
DTSTART:19961027T030000
TZNAME:MEZ
TZOFFSETTO:+0100
END:STANDARD
END:VTIMEZONE
BEGIN:VEVENT
CREATED:20220427T012146Z
UID:6a508a60aa3bf9510ea6acb021c94b48@engagement-global.de
DTSTAMP:20220427T012146Z
DTSTART;VALUE=DATE:20190603
DTEND;VALUE=DATE:20190605
SUMMARY:9. Bundesweites Netzwerktreffen Migration und Entwicklung auf kommunaler Ebene
LOCATION:Mannheim
END:VEVENT
END:VCALENDAR