BEGIN:VCALENDAR
VERSION:2.0
PRODID:http://www.engagement-global.de/ Calendar
CALSCALE:GREGORIAN
BEGIN:VTIMEZONE
TZID:Europe/Berlin
BEGIN:DAYLIGHT
TZOFFSETFROM:+0100
RRULE:FREQ=YEARLY;BYMONTH=3;BYDAY=-1SU
DTSTART:19810329T020000
TZNAME:MESZ
TZOFFSETTO:+0200
END:DAYLIGHT
BEGIN:STANDARD
TZOFFSETFROM:+0200
RRULE:FREQ=YEARLY;BYMONTH=10;BYDAY=-1SU
DTSTART:19961027T030000
TZNAME:MEZ
TZOFFSETTO:+0100
END:STANDARD
END:VTIMEZONE
BEGIN:VEVENT
CREATED:20220427T015116Z
UID:1113d7a76ffceca1bb350bfe145467c6@engagement-global.de
DTSTAMP:20220427T015116Z
DTSTART;VALUE=DATE:20191112
DTEND;VALUE=DATE:20191114
SUMMARY:Netzwerk21Camp 2019
LOCATION:Franz-Mehring-Platz 1, 10243 Berlin, Berlin
END:VEVENT
END:VCALENDAR