BEGIN:VCALENDAR
VERSION:2.0
PRODID:http://www.engagement-global.de/ Calendar
CALSCALE:GREGORIAN
BEGIN:VTIMEZONE
TZID:Europe/Berlin
BEGIN:DAYLIGHT
TZOFFSETFROM:+0100
RRULE:FREQ=YEARLY;BYMONTH=3;BYDAY=-1SU
DTSTART:19810329T020000
TZNAME:MESZ
TZOFFSETTO:+0200
END:DAYLIGHT
BEGIN:STANDARD
TZOFFSETFROM:+0200
RRULE:FREQ=YEARLY;BYMONTH=10;BYDAY=-1SU
DTSTART:19961027T030000
TZNAME:MEZ
TZOFFSETTO:+0100
END:STANDARD
END:VTIMEZONE
BEGIN:VEVENT
CREATED:20220427T015118Z
UID:39dcaf7a053dc372fbc391d4e6b5d693@engagement-global.de
DTSTAMP:20220427T015118Z
DTSTART;VALUE=DATE:20190910
DTEND;VALUE=DATE:20190912
SUMMARY:Landeskundekurs Türkei
LOCATION:Engagement Global gGmbH, Fritz-Schäffer-Straße 26, 53113 Bonn, Bonn
END:VEVENT
END:VCALENDAR