BEGIN:VCALENDAR
VERSION:2.0
PRODID:http://www.engagement-global.de/ Calendar
CALSCALE:GREGORIAN
BEGIN:VTIMEZONE
TZID:Europe/Berlin
BEGIN:DAYLIGHT
TZOFFSETFROM:+0100
RRULE:FREQ=YEARLY;BYMONTH=3;BYDAY=-1SU
DTSTART:19810329T020000
TZNAME:MESZ
TZOFFSETTO:+0200
END:DAYLIGHT
BEGIN:STANDARD
TZOFFSETFROM:+0200
RRULE:FREQ=YEARLY;BYMONTH=10;BYDAY=-1SU
DTSTART:19961027T030000
TZNAME:MEZ
TZOFFSETTO:+0100
END:STANDARD
END:VTIMEZONE
BEGIN:VEVENT
CREATED:20220427T014409Z
UID:ae1eaa32d10b6c886981755d579fb4d8@engagement-global.de
DTSTAMP:20220427T014409Z
DTSTART;TZID=Europe/Berlin:20190718T110000
DTEND;TZID=Europe/Berlin:20190718T170000
SUMMARY:Informationsveranstaltung zur Gründung einer Betreiberplattform für nachhaltige Wasserwirtschaft in Entwicklungs- und Schwellenländern
LOCATION:Berlin
END:VEVENT
END:VCALENDAR