BEGIN:VCALENDAR
VERSION:2.0
PRODID:http://www.engagement-global.de/ Calendar
CALSCALE:GREGORIAN
BEGIN:VTIMEZONE
TZID:Europe/Berlin
BEGIN:DAYLIGHT
TZOFFSETFROM:+0100
RRULE:FREQ=YEARLY;BYMONTH=3;BYDAY=-1SU
DTSTART:19810329T020000
TZNAME:MESZ
TZOFFSETTO:+0200
END:DAYLIGHT
BEGIN:STANDARD
TZOFFSETFROM:+0200
RRULE:FREQ=YEARLY;BYMONTH=10;BYDAY=-1SU
DTSTART:19961027T030000
TZNAME:MEZ
TZOFFSETTO:+0100
END:STANDARD
END:VTIMEZONE
BEGIN:VEVENT
CREATED:20220427T020026Z
UID:5b8e4fd39d9786228649a8a8bec4e008@engagement-global.de
DTSTAMP:20220427T020026Z
DTSTART;VALUE=DATE:20190829
SUMMARY:Zweites regionales Netzwerktreffen Migration und Entwicklung auf kommunaler Ebene für das Bundesland Berlin
LOCATION:Werkstatt der Kulturen, Wissmannstraße 32, 12049 Berlin, Berlin
END:VEVENT
END:VCALENDAR