BEGIN:VCALENDAR
VERSION:2.0
PRODID:http://www.engagement-global.de/ Calendar
CALSCALE:GREGORIAN
BEGIN:VTIMEZONE
TZID:Europe/Berlin
BEGIN:DAYLIGHT
TZOFFSETFROM:+0100
RRULE:FREQ=YEARLY;BYMONTH=3;BYDAY=-1SU
DTSTART:19810329T020000
TZNAME:MESZ
TZOFFSETTO:+0200
END:DAYLIGHT
BEGIN:STANDARD
TZOFFSETFROM:+0200
RRULE:FREQ=YEARLY;BYMONTH=10;BYDAY=-1SU
DTSTART:19961027T030000
TZNAME:MEZ
TZOFFSETTO:+0100
END:STANDARD
END:VTIMEZONE
BEGIN:VEVENT
CREATED:20220427T015759Z
UID:03cf87174debaccd689c90c34577b82f@engagement-global.de
DTSTAMP:20220427T015759Z
DTSTART;TZID=Europe/Berlin:20190917T140000
DTEND;TZID=Europe/Berlin:20190917T210000
SUMMARY:DIE ANSAGE - Impulse zur Nachhaltigkeit
LOCATION:Westhafenstraße 1, Berlin
END:VEVENT
END:VCALENDAR