BEGIN:VCALENDAR
VERSION:2.0
PRODID:http://www.engagement-global.de/ Calendar
CALSCALE:GREGORIAN
BEGIN:VTIMEZONE
TZID:Europe/Berlin
BEGIN:DAYLIGHT
TZOFFSETFROM:+0100
RRULE:FREQ=YEARLY;BYMONTH=3;BYDAY=-1SU
DTSTART:19810329T020000
TZNAME:MESZ
TZOFFSETTO:+0200
END:DAYLIGHT
BEGIN:STANDARD
TZOFFSETFROM:+0200
RRULE:FREQ=YEARLY;BYMONTH=10;BYDAY=-1SU
DTSTART:19961027T030000
TZNAME:MEZ
TZOFFSETTO:+0100
END:STANDARD
END:VTIMEZONE
BEGIN:VEVENT
CREATED:20220427T014741Z
UID:f83630579d055dc5843ae693e7cdafe0@engagement-global.de
DTSTAMP:20220427T014741Z
DTSTART;TZID=Europe/Berlin:20190904T123000
DTEND;TZID=Europe/Berlin:20190904T163000
SUMMARY:Nachhaltige und sozial-verantwortliche Beschaffung - wie kann das gehen? Marktdialog Natursteine
LOCATION:Fischmarkt 1, Erfurt
END:VEVENT
END:VCALENDAR