BEGIN:VCALENDAR
VERSION:2.0
PRODID:http://www.engagement-global.de/ Calendar
CALSCALE:GREGORIAN
BEGIN:VTIMEZONE
TZID:Europe/Berlin
BEGIN:DAYLIGHT
TZOFFSETFROM:+0100
RRULE:FREQ=YEARLY;BYMONTH=3;BYDAY=-1SU
DTSTART:19810329T020000
TZNAME:MESZ
TZOFFSETTO:+0200
END:DAYLIGHT
BEGIN:STANDARD
TZOFFSETFROM:+0200
RRULE:FREQ=YEARLY;BYMONTH=10;BYDAY=-1SU
DTSTART:19961027T030000
TZNAME:MEZ
TZOFFSETTO:+0100
END:STANDARD
END:VTIMEZONE
BEGIN:VEVENT
CREATED:20220427T014742Z
UID:6547884cea64550284728eb26b0947ef@engagement-global.de
DTSTAMP:20220427T014742Z
DTSTART;VALUE=DATE:20191007
DTEND;VALUE=DATE:20191009
SUMMARY:Connective Cities Netzwerktreffen für kommunale Fachleute
LOCATION:Hausvogteiplatz 1, Berlin
END:VEVENT
END:VCALENDAR