BEGIN:VCALENDAR
VERSION:2.0
PRODID:http://www.engagement-global.de/ Calendar
CALSCALE:GREGORIAN
BEGIN:VTIMEZONE
TZID:Europe/Berlin
BEGIN:DAYLIGHT
TZOFFSETFROM:+0100
RRULE:FREQ=YEARLY;BYMONTH=3;BYDAY=-1SU
DTSTART:19810329T020000
TZNAME:MESZ
TZOFFSETTO:+0200
END:DAYLIGHT
BEGIN:STANDARD
TZOFFSETFROM:+0200
RRULE:FREQ=YEARLY;BYMONTH=10;BYDAY=-1SU
DTSTART:19961027T030000
TZNAME:MEZ
TZOFFSETTO:+0100
END:STANDARD
END:VTIMEZONE
BEGIN:VEVENT
CREATED:20220427T015931Z
UID:cf05968255451bdefe3c5bc64d550517@engagement-global.de
DTSTAMP:20220427T015931Z
DTSTART;VALUE=DATE:20191028
DTEND;VALUE=DATE:20191030
SUMMARY:Bürgerschaftliches Engagement - Unverzichtbarer Baustein auf dem Weg zu einer Klima-resilienten Kommune
LOCATION:Kerpen-Horrem
END:VEVENT
END:VCALENDAR