BEGIN:VCALENDAR
VERSION:2.0
PRODID:http://www.engagement-global.de/ Calendar
CALSCALE:GREGORIAN
BEGIN:VTIMEZONE
TZID:Europe/Berlin
BEGIN:DAYLIGHT
TZOFFSETFROM:+0100
RRULE:FREQ=YEARLY;BYMONTH=3;BYDAY=-1SU
DTSTART:19810329T020000
TZNAME:MESZ
TZOFFSETTO:+0200
END:DAYLIGHT
BEGIN:STANDARD
TZOFFSETFROM:+0200
RRULE:FREQ=YEARLY;BYMONTH=10;BYDAY=-1SU
DTSTART:19961027T030000
TZNAME:MEZ
TZOFFSETTO:+0100
END:STANDARD
END:VTIMEZONE
BEGIN:VEVENT
CREATED:20220427T014132Z
UID:10c66082c124f8afe3df4886f5e516e0@engagement-global.de
DTSTAMP:20220427T014132Z
DTSTART;TZID=Europe/Berlin:20190917T143000
DTEND;TZID=Europe/Berlin:20190917T163000
SUMMARY:Pfälzerwald: SDG-Modellregion für ein nachhaltiges Rheinland-Pfalz
LOCATION:Trippstadt
END:VEVENT
END:VCALENDAR