BEGIN:VCALENDAR
VERSION:2.0
PRODID:http://www.engagement-global.de/ Calendar
CALSCALE:GREGORIAN
BEGIN:VTIMEZONE
TZID:Europe/Berlin
BEGIN:DAYLIGHT
TZOFFSETFROM:+0100
RRULE:FREQ=YEARLY;BYMONTH=3;BYDAY=-1SU
DTSTART:19810329T020000
TZNAME:MESZ
TZOFFSETTO:+0200
END:DAYLIGHT
BEGIN:STANDARD
TZOFFSETFROM:+0200
RRULE:FREQ=YEARLY;BYMONTH=10;BYDAY=-1SU
DTSTART:19961027T030000
TZNAME:MEZ
TZOFFSETTO:+0100
END:STANDARD
END:VTIMEZONE
BEGIN:VEVENT
CREATED:20220427T020042Z
UID:1843e35d41ccf6e63273495ba42df3c1@engagement-global.de
DTSTAMP:20220427T020042Z
DTSTART;VALUE=DATE:20191009
DTEND;VALUE=DATE:20191012
SUMMARY:Internationaler Ergebnis-Workshop der kommunalen Klimapartnerschaften
LOCATION:Kouga/Jeffreys Bay, Südafrika
END:VEVENT
END:VCALENDAR