BEGIN:VCALENDAR
VERSION:2.0
PRODID:http://www.engagement-global.de/ Calendar
CALSCALE:GREGORIAN
BEGIN:VTIMEZONE
TZID:Europe/Berlin
BEGIN:DAYLIGHT
TZOFFSETFROM:+0100
RRULE:FREQ=YEARLY;BYMONTH=3;BYDAY=-1SU
DTSTART:19810329T020000
TZNAME:MESZ
TZOFFSETTO:+0200
END:DAYLIGHT
BEGIN:STANDARD
TZOFFSETFROM:+0200
RRULE:FREQ=YEARLY;BYMONTH=10;BYDAY=-1SU
DTSTART:19961027T030000
TZNAME:MEZ
TZOFFSETTO:+0100
END:STANDARD
END:VTIMEZONE
BEGIN:VEVENT
CREATED:20220427T014143Z
UID:696b35cc35e710279b9c2dedc08e22d7@engagement-global.de
DTSTAMP:20220427T014143Z
DTSTART;VALUE=DATE:20191111
DTEND;VALUE=DATE:20191113
SUMMARY:Erfahrungsaustausch im Rahmen des Wettbewerbs „Kommune bewegt Welt“
LOCATION:Weiterbildungszentrum Ingelheim gGmbH, Neuer Markt 3, 55218 Ingelheim am Rhein, Ingelheim am Rhein
END:VEVENT
END:VCALENDAR