BEGIN:VCALENDAR
VERSION:2.0
PRODID:http://www.engagement-global.de/ Calendar
CALSCALE:GREGORIAN
BEGIN:VTIMEZONE
TZID:Europe/Berlin
BEGIN:DAYLIGHT
TZOFFSETFROM:+0100
RRULE:FREQ=YEARLY;BYMONTH=3;BYDAY=-1SU
DTSTART:19810329T020000
TZNAME:MESZ
TZOFFSETTO:+0200
END:DAYLIGHT
BEGIN:STANDARD
TZOFFSETFROM:+0200
RRULE:FREQ=YEARLY;BYMONTH=10;BYDAY=-1SU
DTSTART:19961027T030000
TZNAME:MEZ
TZOFFSETTO:+0100
END:STANDARD
END:VTIMEZONE
BEGIN:VEVENT
CREATED:20220427T014621Z
UID:b06f50d1f89bd8b2a0fb771c1a69c2b0@engagement-global.de
DTSTAMP:20220427T014621Z
DTSTART;VALUE=DATE:20191106
SUMMARY:Fairbesser Berlin! Sozial verantwortliche Beschaffung umsetzen
LOCATION:Greifswalder Straße 4, 10405 Berlin, Berlin
END:VEVENT
END:VCALENDAR