BEGIN:VCALENDAR
VERSION:2.0
PRODID:http://www.engagement-global.de/ Calendar
CALSCALE:GREGORIAN
BEGIN:VTIMEZONE
TZID:Europe/Berlin
BEGIN:DAYLIGHT
TZOFFSETFROM:+0100
RRULE:FREQ=YEARLY;BYMONTH=3;BYDAY=-1SU
DTSTART:19810329T020000
TZNAME:MESZ
TZOFFSETTO:+0200
END:DAYLIGHT
BEGIN:STANDARD
TZOFFSETFROM:+0200
RRULE:FREQ=YEARLY;BYMONTH=10;BYDAY=-1SU
DTSTART:19961027T030000
TZNAME:MEZ
TZOFFSETTO:+0100
END:STANDARD
END:VTIMEZONE
BEGIN:VEVENT
CREATED:20220427T014401Z
UID:f75526659f31040afeb61cb7133e4e6d@engagement-global.de
DTSTAMP:20220427T014401Z
DTSTART;TZID=Europe/Berlin:20200212T190000
DTEND;TZID=Europe/Berlin:20200212T213000
SUMMARY:Die entwicklungspolitische Migrationsdebatte: Zwischen realistischen Möglichkeiten und humanitären Standards
LOCATION:Berlin
END:VEVENT
END:VCALENDAR