BEGIN:VCALENDAR
VERSION:2.0
PRODID:http://www.engagement-global.de/ Calendar
CALSCALE:GREGORIAN
BEGIN:VTIMEZONE
TZID:Europe/Berlin
BEGIN:DAYLIGHT
TZOFFSETFROM:+0100
RRULE:FREQ=YEARLY;BYMONTH=3;BYDAY=-1SU
DTSTART:19810329T020000
TZNAME:MESZ
TZOFFSETTO:+0200
END:DAYLIGHT
BEGIN:STANDARD
TZOFFSETFROM:+0200
RRULE:FREQ=YEARLY;BYMONTH=10;BYDAY=-1SU
DTSTART:19961027T030000
TZNAME:MEZ
TZOFFSETTO:+0100
END:STANDARD
END:VTIMEZONE
BEGIN:VEVENT
CREATED:20220427T014349Z
UID:3812f9a59b634c2a9c574610eaba5bed@engagement-global.de
DTSTAMP:20220427T014349Z
DTSTART;VALUE=DATE:20200916
DTEND;VALUE=DATE:20200918
SUMMARY:Netzwerk21Camp 2020
LOCATION:Muggenhofer Straße 132 / 135, 90429 Nürnberg, Nürnberg
END:VEVENT
END:VCALENDAR