BEGIN:VCALENDAR
VERSION:2.0
PRODID:http://www.engagement-global.de/ Calendar
CALSCALE:GREGORIAN
BEGIN:VTIMEZONE
TZID:Europe/Berlin
BEGIN:DAYLIGHT
TZOFFSETFROM:+0100
RRULE:FREQ=YEARLY;BYMONTH=3;BYDAY=-1SU
DTSTART:19810329T020000
TZNAME:MESZ
TZOFFSETTO:+0200
END:DAYLIGHT
BEGIN:STANDARD
TZOFFSETFROM:+0200
RRULE:FREQ=YEARLY;BYMONTH=10;BYDAY=-1SU
DTSTART:19961027T030000
TZNAME:MEZ
TZOFFSETTO:+0100
END:STANDARD
END:VTIMEZONE
BEGIN:VEVENT
CREATED:20220427T013630Z
UID:3070e6addcd702cb58de5d7897bfdae1@engagement-global.de
DTSTAMP:20220427T013630Z
DTSTART;TZID=Europe/Berlin:20200518T180000
DTEND;TZID=Europe/Berlin:20200518T190000
SUMMARY:Online-Seminar: Das Lieferkettengesetz aus Unternehmenssicht
LOCATION:online
END:VEVENT
END:VCALENDAR