BEGIN:VCALENDAR
VERSION:2.0
PRODID:http://www.engagement-global.de/ Calendar
CALSCALE:GREGORIAN
BEGIN:VTIMEZONE
TZID:Europe/Berlin
BEGIN:DAYLIGHT
TZOFFSETFROM:+0100
RRULE:FREQ=YEARLY;BYMONTH=3;BYDAY=-1SU
DTSTART:19810329T020000
TZNAME:MESZ
TZOFFSETTO:+0200
END:DAYLIGHT
BEGIN:STANDARD
TZOFFSETFROM:+0200
RRULE:FREQ=YEARLY;BYMONTH=10;BYDAY=-1SU
DTSTART:19961027T030000
TZNAME:MEZ
TZOFFSETTO:+0100
END:STANDARD
END:VTIMEZONE
BEGIN:VEVENT
CREATED:20220427T013713Z
UID:ec8b57b0be908301f5748fb04b0714c7@engagement-global.de
DTSTAMP:20220427T013713Z
DTSTART;TZID=Europe/Berlin:20200615T093000
DTEND;TZID=Europe/Berlin:20200615T120000
SUMMARY:Perspektive Nachhaltigkeit - Online-Jahreskonferenz des Rates für Nachhaltige Entwicklung
LOCATION:online
END:VEVENT
END:VCALENDAR