BEGIN:VCALENDAR
VERSION:2.0
PRODID:http://www.engagement-global.de/ Calendar
CALSCALE:GREGORIAN
BEGIN:VTIMEZONE
TZID:Europe/Berlin
BEGIN:DAYLIGHT
TZOFFSETFROM:+0100
RRULE:FREQ=YEARLY;BYMONTH=3;BYDAY=-1SU
DTSTART:19810329T020000
TZNAME:MESZ
TZOFFSETTO:+0200
END:DAYLIGHT
BEGIN:STANDARD
TZOFFSETFROM:+0200
RRULE:FREQ=YEARLY;BYMONTH=10;BYDAY=-1SU
DTSTART:19961027T030000
TZNAME:MEZ
TZOFFSETTO:+0100
END:STANDARD
END:VTIMEZONE
BEGIN:VEVENT
CREATED:20220427T015806Z
UID:7f018eb7b301a66658931cb8a93fd6e8@engagement-global.de
DTSTAMP:20220427T015806Z
DTSTART;VALUE=DATE:20200930
DTEND;VALUE=DATE:20201003
SUMMARY:9th European Conference on Sustainable Cities and Towns: Mannheim2020
LOCATION:online
END:VEVENT
END:VCALENDAR