BEGIN:VCALENDAR
VERSION:2.0
PRODID:http://www.engagement-global.de/ Calendar
CALSCALE:GREGORIAN
BEGIN:VTIMEZONE
TZID:Europe/Berlin
BEGIN:DAYLIGHT
TZOFFSETFROM:+0100
RRULE:FREQ=YEARLY;BYMONTH=3;BYDAY=-1SU
DTSTART:19810329T020000
TZNAME:MESZ
TZOFFSETTO:+0200
END:DAYLIGHT
BEGIN:STANDARD
TZOFFSETFROM:+0200
RRULE:FREQ=YEARLY;BYMONTH=10;BYDAY=-1SU
DTSTART:19961027T030000
TZNAME:MEZ
TZOFFSETTO:+0100
END:STANDARD
END:VTIMEZONE
BEGIN:VEVENT
CREATED:20220427T012352Z
UID:779efbd24d5a7e37ce8dc93e7c04d572@engagement-global.de
DTSTAMP:20220427T012352Z
DTSTART;VALUE=DATE:20200924
SUMMARY:Nachhaltig Engagiert – Lokal, Regional, Global. Kommunen und kommunale Unternehmen für eine nachhaltige Gesellschaft
LOCATION:online
END:VEVENT
END:VCALENDAR