BEGIN:VCALENDAR
VERSION:2.0
PRODID:http://www.engagement-global.de/ Calendar
CALSCALE:GREGORIAN
BEGIN:VTIMEZONE
TZID:Europe/Berlin
BEGIN:DAYLIGHT
TZOFFSETFROM:+0100
RRULE:FREQ=YEARLY;BYMONTH=3;BYDAY=-1SU
DTSTART:19810329T020000
TZNAME:MESZ
TZOFFSETTO:+0200
END:DAYLIGHT
BEGIN:STANDARD
TZOFFSETFROM:+0200
RRULE:FREQ=YEARLY;BYMONTH=10;BYDAY=-1SU
DTSTART:19961027T030000
TZNAME:MEZ
TZOFFSETTO:+0100
END:STANDARD
END:VTIMEZONE
BEGIN:VEVENT
CREATED:20220427T015202Z
UID:65a31da7ede4dc9b03fb5bbf8f442ce9@engagement-global.de
DTSTAMP:20220427T015202Z
DTSTART;VALUE=DATE:20201118
DTEND;VALUE=DATE:20201121
SUMMARY:Connective Cities Dialogveranstaltung: Nachhaltiges und resilientes, regionales und interkommunales Landmanagement
LOCATION:Virtuell
END:VEVENT
END:VCALENDAR