BEGIN:VCALENDAR
VERSION:2.0
PRODID:http://www.engagement-global.de/ Calendar
CALSCALE:GREGORIAN
BEGIN:VTIMEZONE
TZID:Europe/Berlin
BEGIN:DAYLIGHT
TZOFFSETFROM:+0100
RRULE:FREQ=YEARLY;BYMONTH=3;BYDAY=-1SU
DTSTART:19810329T020000
TZNAME:MESZ
TZOFFSETTO:+0200
END:DAYLIGHT
BEGIN:STANDARD
TZOFFSETFROM:+0200
RRULE:FREQ=YEARLY;BYMONTH=10;BYDAY=-1SU
DTSTART:19961027T030000
TZNAME:MEZ
TZOFFSETTO:+0100
END:STANDARD
END:VTIMEZONE
BEGIN:VEVENT
CREATED:20220427T014412Z
UID:63f44623dd8686aba388944c8810087f@engagement-global.de
DTSTAMP:20220427T014412Z
DTSTART;VALUE=DATE:20201130
DTEND;VALUE=DATE:20201203
SUMMARY:Connective Cities Dialogveranstaltung: Asset Management zur Optimierung von Wasser- und Abwasserinfrastruktur
LOCATION:Virtuell
END:VEVENT
END:VCALENDAR