BEGIN:VCALENDAR
VERSION:2.0
PRODID:http://www.engagement-global.de/ Calendar
CALSCALE:GREGORIAN
BEGIN:VTIMEZONE
TZID:Europe/Berlin
BEGIN:DAYLIGHT
TZOFFSETFROM:+0100
RRULE:FREQ=YEARLY;BYMONTH=3;BYDAY=-1SU
DTSTART:19810329T020000
TZNAME:MESZ
TZOFFSETTO:+0200
END:DAYLIGHT
BEGIN:STANDARD
TZOFFSETFROM:+0200
RRULE:FREQ=YEARLY;BYMONTH=10;BYDAY=-1SU
DTSTART:19961027T030000
TZNAME:MEZ
TZOFFSETTO:+0100
END:STANDARD
END:VTIMEZONE
BEGIN:VEVENT
CREATED:20220427T020450Z
UID:d38ee19a4815c4aeba48227913092a6e@engagement-global.de
DTSTAMP:20220427T020450Z
DTSTART;TZID=Europe/Berlin:20210210T100000
DTEND;TZID=Europe/Berlin:20210210T110000
SUMMARY:Bildung für nachhaltige Entwicklung &#40;BNE&#41; und die Klima-Krise: „Flatten the curve“ für den Klimawandel
LOCATION:online
END:VEVENT
END:VCALENDAR