BEGIN:VCALENDAR
VERSION:2.0
PRODID:http://www.engagement-global.de/ Calendar
CALSCALE:GREGORIAN
BEGIN:VTIMEZONE
TZID:Europe/Berlin
BEGIN:DAYLIGHT
TZOFFSETFROM:+0100
RRULE:FREQ=YEARLY;BYMONTH=3;BYDAY=-1SU
DTSTART:19810329T020000
TZNAME:MESZ
TZOFFSETTO:+0200
END:DAYLIGHT
BEGIN:STANDARD
TZOFFSETFROM:+0200
RRULE:FREQ=YEARLY;BYMONTH=10;BYDAY=-1SU
DTSTART:19961027T030000
TZNAME:MEZ
TZOFFSETTO:+0100
END:STANDARD
END:VTIMEZONE
BEGIN:VEVENT
CREATED:20220427T012124Z
UID:b071cfa81605a94ad80cfa2bbc747448@engagement-global.de
DTSTAMP:20220427T012124Z
DTSTART;VALUE=DATE:20210312
DTEND;VALUE=DATE:20210314
SUMMARY:Durch Krisen lernen - Eine Welt neu denken! 24. Eine-Welt-Landeskonferenz NRW
LOCATION:online
END:VEVENT
END:VCALENDAR